BEGIN:VCALENDAR
VERSION:2.0
PRODID:-//Double Trust Dating - ECPv6.15.13.1//NONSGML v1.0//EN
CALSCALE:GREGORIAN
METHOD:PUBLISH
X-ORIGINAL-URL:https://doubletrustdating.com
X-WR-CALDESC:Events for Double Trust Dating
REFRESH-INTERVAL;VALUE=DURATION:PT1H
X-Robots-Tag:noindex
X-PUBLISHED-TTL:PT1H
BEGIN:VTIMEZONE
TZID:America/New_York
BEGIN:DAYLIGHT
TZOFFSETFROM:-0500
TZOFFSETTO:-0400
TZNAME:EDT
DTSTART:20180311T070000
END:DAYLIGHT
BEGIN:STANDARD
TZOFFSETFROM:-0400
TZOFFSETTO:-0500
TZNAME:EST
DTSTART:20181104T060000
END:STANDARD
BEGIN:DAYLIGHT
TZOFFSETFROM:-0500
TZOFFSETTO:-0400
TZNAME:EDT
DTSTART:20190310T070000
END:DAYLIGHT
BEGIN:STANDARD
TZOFFSETFROM:-0400
TZOFFSETTO:-0500
TZNAME:EST
DTSTART:20191103T060000
END:STANDARD
BEGIN:DAYLIGHT
TZOFFSETFROM:-0500
TZOFFSETTO:-0400
TZNAME:EDT
DTSTART:20200308T070000
END:DAYLIGHT
BEGIN:STANDARD
TZOFFSETFROM:-0400
TZOFFSETTO:-0500
TZNAME:EST
DTSTART:20201101T060000
END:STANDARD
END:VTIMEZONE
BEGIN:VEVENT
DTSTART;TZID=America/New_York:20190402T193000
DTEND;TZID=America/New_York:20190402T203000
DTSTAMP:20260424T164608
CREATED:20190307T200828Z
LAST-MODIFIED:20190307T201305Z
UID:458-1554233400-1554237000@doubletrustdating.com
SUMMARY:The "Ex" Files: Support\, Tips\, And Meditations To Move Past Your Ex
DESCRIPTION:Are you stuck on an ex? If so\, you’re not alone!\nDo you find yourself thinking about your ex even though you’re with a new partner?\nDo you compare your current partner to your ex?\nDo you constantly “stalk” your ex on social media\, and all of his or her current love interests?\nIf so\, you may not be over your ex. \nJoin us for this free\, fun\, and informative event. We: \n\nExplain the scientific reasons why you are stuck on your ex\, even if it’s an ex from years ago\nHelp you understand why you say  how much you don’t like your ex\, but why you still might be in love\nGive you some tools to help you move past your ex emotionally\nWill walk you through a brief meditation that can help you move on
URL:https://doubletrustdating.com/event/the-ex-files-support-tips-and-meditations-to-move-past-your-ex/
LOCATION:Hilliard Public Library\, 4500 Hickory Chase Way\, Hilliard\, OH\, 43026\, United States
CATEGORIES:Dating,Relationships
END:VEVENT
END:VCALENDAR